BEGIN:VCALENDAR
VERSION:2.0
PRODID:GIGPRESS 2.0 WORDPRESS PLUGIN
CALSCALE:GREGORIAN
X-WR-TIMEZONE:Etc/GMT
METHOD:PUBLISH
BEGIN:VTIMEZONE
TZID:GMT
BEGIN:STANDARD
DTSTART:20071028T010000
TZOFFSETTO:+0000
TZOFFSETFROM:+0000
END:STANDARD
END:VTIMEZONE
BEGIN:VEVENT
SUMMARY:此方喘ぐ散りの共鳴り 時間 なってるハウス
DESCRIPTION:備考: 『此方喘ぐ散りの共鳴り』   Member : 森川誠一郎g\,b\,vo・若林一也sax・藤掛正隆ds  19:00open 19:30start   ¥2\,800予約／¥3\,000当日（+order）  予約：knuttelhouse.com 
LOCATION:なってるハウス\, 合羽橋\, JP
UID:20260518-670-aratann@h3.dion.ne.jp
URL:https://fulldesignrecords.com
DTSTART;VALUE=DATE;TZID=GMT:20260518
DTEND;VALUE=DATE;TZID=GMT:20260518
DTSTAMP:20260419T024624Z
END:VEVENT
END:VCALENDAR