BEGIN:VCALENDAR
VERSION:2.0
PRODID:GIGPRESS 2.0 WORDPRESS PLUGIN
CALSCALE:GREGORIAN
X-WR-TIMEZONE:Etc/GMT
METHOD:PUBLISH
BEGIN:VTIMEZONE
TZID:GMT
BEGIN:STANDARD
DTSTART:20071028T010000
TZOFFSETTO:+0000
TZOFFSETFROM:+0000
END:STANDARD
END:VTIMEZONE
BEGIN:VEVENT
SUMMARY:田畑満＋加藤一平＋藤掛正隆 trio 時間 ライブバーAja
DESCRIPTION:備考: 『田畑満＋加藤一平＋藤掛正隆』   出演：田畑満g・加藤一平g・藤掛正隆ds   TABATA MITSURU(g) KATO IPPEI(g) FUJIKAKE MASATAKA(ds)   19:00open 19:30start ¥3\,000+drink（予約/当日共）   https://aja-bar.jp/   東京都中野区中央2-21-5 金子ビルB1F   Mail予約: ajareservation@gmail.com 
LOCATION:ライブバーAja\, 中野坂上\, JP
UID:20260514-671-aratann@h3.dion.ne.jp
URL:https://fulldesignrecords.com
DTSTART;VALUE=DATE;TZID=GMT:20260514
DTEND;VALUE=DATE;TZID=GMT:20260514
DTSTAMP:20260419T024851Z
END:VEVENT
END:VCALENDAR