BEGIN:VCALENDAR
VERSION:2.0
PRODID:GIGPRESS 2.0 WORDPRESS PLUGIN
CALSCALE:GREGORIAN
X-WR-TIMEZONE:Etc/GMT
METHOD:PUBLISH
BEGIN:VTIMEZONE
TZID:GMT
BEGIN:STANDARD
DTSTART:20071028T010000
TZOFFSETTO:+0000
TZOFFSETFROM:+0000
END:STANDARD
END:VTIMEZONE
BEGIN:VEVENT
SUMMARY:NEW崖っぷちSESSION 時間 Pit Inn
DESCRIPTION:備考: 6/6(土) 新宿PIT INN(昼の部)   『NEW崖っぷちSESSION』   広瀬淳二ts 酒井泰三g 早川岳晴b 藤掛正隆ds   13:30open 14:00start ¥2\,500+税（1drink付）   http://pit-inn.com 
LOCATION:Pit Inn\, 新宿\, JP
UID:20260606-672-aratann@h3.dion.ne.jp
URL:https://fulldesignrecords.com
DTSTART;VALUE=DATE;TZID=GMT:20260606
DTEND;VALUE=DATE;TZID=GMT:20260606
DTSTAMP:20260419T024832Z
END:VEVENT
END:VCALENDAR